BEGIN:VCALENDAR
VERSION:2.0
PRODID:-//Chihuahua Bárbaro - ECPv6.0.10//NONSGML v1.0//EN
CALSCALE:GREGORIAN
METHOD:PUBLISH
X-WR-CALNAME:Chihuahua Bárbaro
X-ORIGINAL-URL:https://chihuahuabarbaro.com/en
X-WR-CALDESC:Events for Chihuahua Bárbaro
REFRESH-INTERVAL;VALUE=DURATION:PT1H
X-Robots-Tag:noindex
X-PUBLISHED-TTL:PT1H
BEGIN:VTIMEZONE
TZID:America/Mexico_City
BEGIN:STANDARD
TZOFFSETFROM:-0600
TZOFFSETTO:-0600
TZNAME:CST
DTSTART:20250101T000000
END:STANDARD
END:VTIMEZONE
BEGIN:VEVENT
DTSTART;TZID=America/Mexico_City:20251204T180000
DTEND;TZID=America/Mexico_City:20251204T190000
DTSTAMP:20260422T134608
CREATED:20251204T135012Z
LAST-MODIFIED:20251204T135012Z
UID:1921-1764871200-1764874800@chihuahuabarbaro.com
SUMMARY:Taller filosófico: la ética de Chomsky
DESCRIPTION:¿Te interesa entender cómo el pensamiento crítico puede transformar nuestra manera de ver el poder\, el lenguaje y la justicia?Este curso es para ti. \nExploraremos la propuesta ética de Noam Chomsky\, uno de los intelectuales más influyentes de los siglos XX y XXI. Revisaremos su crítica a los medios\, su defensa de la libertad\, su análisis del lenguaje y su visión del compromiso moral. \nPara concluir\, en la última sesión proyectaremos el documental ¿Es feliz el hombre que es alto?\, una conversación cercana con Chomsky que nos ayudará a profundizar en su filosofía desde un enfoque humano\, reflexivo y accesible. \nLugar: Centro Cultural El Ágora\, Ciudad de ChihuahuaFechas: Jueves 4\, 11 y 18 de diciembreHorario: 6:00 pm – 7:30 pmCosto: $400 pesosModalidad: Presencial \nSi deseas iniciarte en el pensamiento crítico o continuar ampliando tu formación filosófica\, este curso será una excelente oportunidad para comprender la relación entre lenguaje\, ética y responsabilidad política. \nAsegura tu lugar y forma parte de esta experiencia filosófica y cinematográfica.
URL:https://chihuahuabarbaro.com/en/event/taller-filosofico-la-etica-de-chomsky/
LOCATION:El Agora\, Calle Antonio Francisco Carbonel\, Chihuahua\, Chihuahua\, 31203
CATEGORIES:Eventos
ATTACH;FMTTYPE=image/webp:https://chihuahuabarbaro.com/wp-content/uploads/2025/12/590126633_1304942581646541_5474629734927503956_n.jpg.webp
END:VEVENT
BEGIN:VEVENT
DTSTART;TZID=America/Mexico_City:20251204T180000
DTEND;TZID=America/Mexico_City:20251204T200000
DTSTAMP:20260422T134608
CREATED:20251204T134143Z
LAST-MODIFIED:20251204T134607Z
UID:1915-1764871200-1764878400@chihuahuabarbaro.com
SUMMARY:Una rondalla que no morirá
DESCRIPTION:La querida Rondalla Voces y Guitarras se presenta en Sándor Márai Librería para cautivarnos con la fuerza y calidez de su música. Podrás disfrutar temas como Adiós amor\, El andariego y Como quien pierde una estrella\, interpretados con la misma pasión que ha sostenido la trayectoria de esta agrupación chihuahuense.
URL:https://chihuahuabarbaro.com/en/event/una-rondalla-que-no-morira/
LOCATION:Librería Sándor Márai\, Chihuahua\, Chihuahua\, Librería Sándor Márai\, Chihuahua\, Chihuahua\, 31000\, Mexico
CATEGORIES:Eventos
ATTACH;FMTTYPE=image/webp:https://chihuahuabarbaro.com/wp-content/uploads/2025/12/590222527_825397697005282_3557308191832685428_n.jpg.webp
END:VEVENT
BEGIN:VEVENT
DTSTART;TZID=America/Mexico_City:20251204T190000
DTEND;TZID=America/Mexico_City:20251204T190000
DTSTAMP:20260422T134608
CREATED:20251204T135314Z
LAST-MODIFIED:20251204T135330Z
UID:1925-1764874800-1764874800@chihuahuabarbaro.com
SUMMARY:Exposición: códigos de identidad
DESCRIPTION:Te invitamos a la inauguración de “Códigos de identidad”\, una exposición que profundiza en el rostro como espejo de nuestras emociones\, vivencias y maneras de expresarnos. Mediante retratos en carboncillo y grafito\, la artista experimenta con distintos formatos y materiales para mostrar cómo nuestra identidad se forma y transforma con el tiempo. \n\n4 de diciembre\n7:00 pm\nMuseo Sebastian\nEntrada libre\n\nVen a descubrir esta visión íntima sobre aquello que nos hace únicos. ¡Nos encantará verte ahí!
URL:https://chihuahuabarbaro.com/en/event/exposicion-codigos-de-identidad/
LOCATION:Museo Sebastián Casa Siglo XIX\, Av. Benito Juárez 601\, Chihuahua\, Chihuahua\, 31000\, Mexico
ATTACH;FMTTYPE=image/webp:https://chihuahuabarbaro.com/wp-content/uploads/2025/12/587932292_1270886841731389_4572541398102990650_n.jpg.webp
END:VEVENT
BEGIN:VEVENT
DTSTART;TZID=America/Mexico_City:20251204T190000
DTEND;TZID=America/Mexico_City:20251204T210000
DTSTAMP:20260422T134608
CREATED:20251204T135633Z
LAST-MODIFIED:20251204T135633Z
UID:1930-1764874800-1764882000@chihuahuabarbaro.com
SUMMARY:Candlelight: lo mejor de Bridgerton
DESCRIPTION:Te invitamos a disfrutar de una experiencia mágica con Candlelight: Lo mejor de Bridgerton en Chihuahua. Bajo la luz de cientos de velas\, podrás escuchar en vivo las melodías más queridas de la serie Bridgerton de Shondaland en Netflix\, interpretadas por un destacado cuarteto de cuerdas. ¿Listo para vivir una noche inolvidable? Asegura tus boletos cuanto antes. \nLos lugares se asignan por orden de llegada dentro de cada zona. \nInformación: \n\nLugar: Teatro de Cámara Fernando Saavedra\, Chihuahua\nFecha y hora: selecciona la opción deseada directamente en el sistema de boletos\nDuración: aproximadamente 60 minutos (las puertas abren 45 minutos antes; no se permite el acceso una vez iniciado el\nconcierto)\nEdad: a partir de 8 años; menores de 16 deben ir acompañados por un adulto\nAccesibilidad: el recinto es apto para sillas de ruedas\nVestimenta: no existe un código obligatorio\, pero se recomienda asistir con un atuendo inspirado en el estilo Bridgerton
URL:https://chihuahuabarbaro.com/en/event/candlelight-lo-mejor-de-bridgerton/
LOCATION:Teatro de Cámara Fernando Saavedra\, Av División del Nte 2301\, Chihuahua\, Chihuahua\, 31200\, Mexico
CATEGORIES:Eventos
ATTACH;FMTTYPE=image/webp:https://chihuahuabarbaro.com/wp-content/uploads/2025/12/572955306_122179226174497364_8383716799871650024_n.jpg.webp
END:VEVENT
BEGIN:VEVENT
DTSTART;TZID=America/Mexico_City:20251206T210000
DTEND;TZID=America/Mexico_City:20251206T230000
DTSTAMP:20260422T134608
CREATED:20251204T140110Z
LAST-MODIFIED:20251204T140154Z
UID:1934-1765054800-1765062000@chihuahuabarbaro.com
SUMMARY:Don Burro Foro Cultural
DESCRIPTION:
URL:https://chihuahuabarbaro.com/en/event/don-burro-foro-cultural/
LOCATION:Don Burro\, Avenida Universidad\, San Felipe I Etapa\, Chihuahua\, Chihuahua\, 31203\, Mexico
CATEGORIES:Eventos
ATTACH;FMTTYPE=image/webp:https://chihuahuabarbaro.com/wp-content/uploads/2025/12/546210006_18526351174046422_8030273104957346490_n.jpg.webp
END:VEVENT
END:VCALENDAR